BEGIN:VCALENDAR
VERSION:2.0
PRODID:-//Association Salsamoondo - Danser pour donner..!  - ECPv6.15.20//NONSGML v1.0//EN
CALSCALE:GREGORIAN
METHOD:PUBLISH
X-ORIGINAL-URL:https://www.salsamoondo.org
X-WR-CALDESC:Évènements pour Association Salsamoondo - Danser pour donner..! 
REFRESH-INTERVAL;VALUE=DURATION:PT1H
X-Robots-Tag:noindex
X-PUBLISHED-TTL:PT1H
BEGIN:VTIMEZONE
TZID:Europe/Paris
BEGIN:DAYLIGHT
TZOFFSETFROM:+0100
TZOFFSETTO:+0200
TZNAME:CEST
DTSTART:20130331T010000
END:DAYLIGHT
BEGIN:STANDARD
TZOFFSETFROM:+0200
TZOFFSETTO:+0100
TZNAME:CET
DTSTART:20131027T010000
END:STANDARD
BEGIN:DAYLIGHT
TZOFFSETFROM:+0100
TZOFFSETTO:+0200
TZNAME:CEST
DTSTART:20140330T010000
END:DAYLIGHT
BEGIN:STANDARD
TZOFFSETFROM:+0200
TZOFFSETTO:+0100
TZNAME:CET
DTSTART:20141026T010000
END:STANDARD
BEGIN:DAYLIGHT
TZOFFSETFROM:+0100
TZOFFSETTO:+0200
TZNAME:CEST
DTSTART:20150329T010000
END:DAYLIGHT
BEGIN:STANDARD
TZOFFSETFROM:+0200
TZOFFSETTO:+0100
TZNAME:CET
DTSTART:20151025T010000
END:STANDARD
END:VTIMEZONE
BEGIN:VEVENT
DTSTART;TZID=Europe/Paris:20140917T193000
DTEND;TZID=Europe/Paris:20140917T193000
DTSTAMP:20260422T194803
CREATED:20140912T163558Z
LAST-MODIFIED:20140912T164053Z
UID:1057-1410982200-1410982200@www.salsamoondo.org
SUMMARY:Oyé Oyé c'est la rentrée
DESCRIPTION:Nous avons décidé de commencer l’année par une Assemblé Générale Extraordinaire. En effet\, nous avons quelques points à traiter : \n\nOrdre du jour :\n– Modification des statuts de l’association\n– Modification des membres du Conseil d’Administration (on a besoin de vos votes !)\n– Présentation des associations à qui nous faisons des dons\n« Les bougies roses« \, « Solidarité Pérou« \, « Soleil d’enfants du Pérou » et « AFM-Téléthon » seront présents\, ainsi qu’une journaliste de l’Est Républicain. \nNous comptons sur la présence d’un maximum d’adhérents ! \nBien-sûr\, la piste de danse sera à vous dès 21h ! \n\nà très vite !
URL:https://www.salsamoondo.org/event1/oye-oye-cest-la-rentree
LOCATION:Maison de quartier Saint Ferjeux\, 1 Av. Ducat\, 25000 Besançon\, Besançon\, Franche Comté\, 25000\, France
END:VEVENT
END:VCALENDAR