BEGIN:VCALENDAR
VERSION:2.0
PRODID:-//Association Salsamoondo - Danser pour donner..!  - ECPv6.15.20//NONSGML v1.0//EN
CALSCALE:GREGORIAN
METHOD:PUBLISH
X-WR-CALNAME:Association Salsamoondo - Danser pour donner..! 
X-ORIGINAL-URL:https://www.salsamoondo.org
X-WR-CALDESC:Évènements pour Association Salsamoondo - Danser pour donner..! 
REFRESH-INTERVAL;VALUE=DURATION:PT1H
X-Robots-Tag:noindex
X-PUBLISHED-TTL:PT1H
BEGIN:VTIMEZONE
TZID:Europe/Paris
BEGIN:DAYLIGHT
TZOFFSETFROM:+0100
TZOFFSETTO:+0200
TZNAME:CEST
DTSTART:20250330T010000
END:DAYLIGHT
BEGIN:STANDARD
TZOFFSETFROM:+0200
TZOFFSETTO:+0100
TZNAME:CET
DTSTART:20251026T010000
END:STANDARD
BEGIN:DAYLIGHT
TZOFFSETFROM:+0100
TZOFFSETTO:+0200
TZNAME:CEST
DTSTART:20260329T010000
END:DAYLIGHT
BEGIN:STANDARD
TZOFFSETFROM:+0200
TZOFFSETTO:+0100
TZNAME:CET
DTSTART:20261025T010000
END:STANDARD
BEGIN:DAYLIGHT
TZOFFSETFROM:+0100
TZOFFSETTO:+0200
TZNAME:CEST
DTSTART:20270328T010000
END:DAYLIGHT
BEGIN:STANDARD
TZOFFSETFROM:+0200
TZOFFSETTO:+0100
TZNAME:CET
DTSTART:20271031T010000
END:STANDARD
END:VTIMEZONE
BEGIN:VEVENT
DTSTART;TZID=Europe/Paris:20260424T200000
DTEND;TZID=Europe/Paris:20260425T020000
DTSTAMP:20260424T114724
CREATED:20260422T153509Z
LAST-MODIFIED:20260422T153510Z
UID:3043-1777060800-1777082400@www.salsamoondo.org
SUMMARY:soirée Salsa & latino/ BAR "les voisins"
DESCRIPTION:
URL:https://www.salsamoondo.org/event1/soiree-salsa-latino-bar-les-voisins
LOCATION:Les voisins\, 1 route de franois\, besancon\, doubs\, France
ATTACH;FMTTYPE=image/jpeg:https://www.salsamoondo.org/wp-content/uploads/2026/04/24avril.jpg
END:VEVENT
END:VCALENDAR